BEGIN:VCALENDAR
VERSION:2.0
METHOD:PUBLISH
BEGIN:VEVENT
DTSTART:20220512T150000Z
DTEND:20220514T210000Z
LOCATION:Milwaukee, WI 53217
TRANSP: OPAQUE
SEQUENCE:0
UID:
DTSTAMP:20260425T162710Z
SUMMARY:Whitefish Bay: Half Price! Marvelous May Sale!
DESCRIPTION:Whitefish Bay: Half Price! Marvelous May Sale! Landmark Estate Sales 
UID:1777156030
STREET-ADDRESS:See website
POSTAL-CODE:53217
LOCALITY:Milwaukee
REGION:ABBREV=WI
COUNTRY:ABBREV=US;ABBREV=USA:United States
URL;TYPE=Event Listing:https://estatesales.org/estate-sales/wi/milwaukee/53217/whitefish-bay-marvelous-may-sale-2039613
PRIORITY:1
CLASS:PUBLIC
SEQUENCE:0
STATUS:CONFIRMED
TRANSP:OPAQUE
END:VEVENT
END:VCALENDAR
