BEGIN:VCALENDAR
VERSION:2.0
METHOD:PUBLISH
BEGIN:VEVENT
DTSTART:20200512T170000Z
DTEND:20200517T000000Z
LOCATION:By appointment only.
TRANSP: OPAQUE
SEQUENCE:0
UID:
DTSTAMP:20260420T021114Z
SUMMARY:Gallery Collection- 800 Pieces of Fine Art - Up To 75% Off. Buy 1 or All!
DESCRIPTION:Gallery Collection- 800 Pieces of Fine Art - Up To 75% Off. Buy 1 or All! Triumphant Estate Sales of Los Angeles 
UID:1776672674
STREET-ADDRESS:See website
POSTAL-CODE:90068
LOCALITY:Los Angeles
REGION:ABBREV=CA
COUNTRY:ABBREV=US;ABBREV=USA:United States
URL;TYPE=Event Listing:https://estatesales.org/estate-sales/ca/hollywood-hills/90068/gallery-collection-800-pieces-of-1783011
PRIORITY:1
CLASS:PUBLIC
SEQUENCE:0
STATUS:CONFIRMED
TRANSP:OPAQUE
END:VEVENT
END:VCALENDAR
