BEGIN:VCALENDAR
VERSION:2.0
METHOD:PUBLISH
BEGIN:VEVENT
DTSTART:20240511T130000Z
DTEND:20240512T170000Z
LOCATION:Melbourne, FL 32940
TRANSP: OPAQUE
SEQUENCE:0
UID:
DTSTAMP:20260419T155535Z
SUMMARY:ESTATE SALES OF CENTRAL FLORIDA
DESCRIPTION:ESTATE SALES OF CENTRAL FLORIDA ESTATE SALES OF CENTRAL FLORIDA 
UID:1776635735
STREET-ADDRESS:See website
POSTAL-CODE:32940
LOCALITY:Melbourne
REGION:ABBREV=FL
COUNTRY:ABBREV=US;ABBREV=USA:United States
URL;TYPE=Event Listing:https://estatesales.org/estate-sales/fl/melbourne/32940/estate-sales-of-central-florida-2301055
PRIORITY:1
CLASS:PUBLIC
SEQUENCE:0
STATUS:CONFIRMED
TRANSP:OPAQUE
END:VEVENT
END:VCALENDAR
