BEGIN:VCALENDAR
VERSION:2.0
METHOD:PUBLISH
BEGIN:VEVENT
DTSTART:20220511T120000Z
DTEND:20220514T160000Z
LOCATION:Eureka Springs, AR 72631
TRANSP: OPAQUE
SEQUENCE:0
UID:
DTSTAMP:20260419T181752Z
SUMMARY:Lots and lots of stuff
DESCRIPTION:Lots and lots of stuff Above and Beyond estate sales 
UID:1776644272
STREET-ADDRESS:See website
POSTAL-CODE:72631
LOCALITY:Eureka Springs
REGION:ABBREV=AR
COUNTRY:ABBREV=US;ABBREV=USA:United States
URL;TYPE=Event Listing:https://estatesales.org/estate-sales/ar/eureka-springs/72631/lots-and-lots-of-stuff-2040009
PRIORITY:1
CLASS:PUBLIC
SEQUENCE:0
STATUS:CONFIRMED
TRANSP:OPAQUE
END:VEVENT
END:VCALENDAR
