BEGIN:VCALENDAR
VERSION:2.0
METHOD:PUBLISH
BEGIN:VEVENT
DTSTART:20200511T213000Z
DTEND:20200517T210000Z
LOCATION:By appointment only.
TRANSP: OPAQUE
SEQUENCE:0
UID:
DTSTAMP:20260419T104715Z
SUMMARY:Martha Stewart Turkey Hill Kitchen,  Emeril Lagasse Kitchen and Set Props and Lighting
DESCRIPTION:Martha Stewart Turkey Hill Kitchen,  Emeril Lagasse Kitchen and Set Props and Lighting KaminskiAuctions 
UID:1776617235
STREET-ADDRESS:See website
POSTAL-CODE:01915
LOCALITY:Beverly
REGION:ABBREV=MA
COUNTRY:ABBREV=US;ABBREV=USA:United States
URL;TYPE=Event Listing:https://estatesales.org/estate-sales/ma/beverly/01915/martha-stewart-turkey-hill-kitchen-1783161
PRIORITY:1
CLASS:PUBLIC
SEQUENCE:0
STATUS:CONFIRMED
TRANSP:OPAQUE
END:VEVENT
END:VCALENDAR
