BEGIN:VCALENDAR
VERSION:2.0
METHOD:PUBLISH
BEGIN:VEVENT
DTSTART:20190511T153000Z
DTEND:20190512T200000Z
LOCATION:Fort Collins, CO 80525
TRANSP: OPAQUE
SEQUENCE:0
UID:
DTSTAMP:20260420T204618Z
SUMMARY:Fort Collins Sale
DESCRIPTION:Fort Collins Sale Adan’s Hidden Treasures Estate Sale Company 
UID:1776739578
STREET-ADDRESS:See website
POSTAL-CODE:80525
LOCALITY:Fort Collins
REGION:ABBREV=CO
COUNTRY:ABBREV=US;ABBREV=USA:United States
URL;TYPE=Event Listing:https://estatesales.org/estate-sales/co/fort-collins/80525/fort-collins-sale-1655923
PRIORITY:1
CLASS:PUBLIC
SEQUENCE:0
STATUS:CONFIRMED
TRANSP:OPAQUE
END:VEVENT
END:VCALENDAR
