BEGIN:VCALENDAR
VERSION:2.0
METHOD:PUBLISH
BEGIN:VEVENT
DTSTART:20180511T130000Z
DTEND:20180512T160000Z
LOCATION:Huntsville, AL 35816
TRANSP: OPAQUE
SEQUENCE:0
UID:
DTSTAMP:20260419T113717Z
SUMMARY:COMPLETE ESTATE DISPOSAL - SPECIAL TWO-DAY SALE!
DESCRIPTION:COMPLETE ESTATE DISPOSAL - SPECIAL TWO-DAY SALE! Alpha Estate Sales and Auctions 
UID:1776620237
STREET-ADDRESS:See website
POSTAL-CODE:35816
LOCALITY:Huntsville
REGION:ABBREV=AL
COUNTRY:ABBREV=US;ABBREV=USA:United States
URL;TYPE=Event Listing:https://estatesales.org/estate-sales/al/huntsville/35816/complete-estate-disposal-special-twoday-1511751
PRIORITY:1
CLASS:PUBLIC
SEQUENCE:0
STATUS:CONFIRMED
TRANSP:OPAQUE
END:VEVENT
END:VCALENDAR
