BEGIN:VCALENDAR
VERSION:2.0
METHOD:PUBLISH
BEGIN:VEVENT
DTSTART:20180511T130000Z
DTEND:20180512T210000Z
LOCATION:Okemos, MI 48864
TRANSP: OPAQUE
SEQUENCE:0
UID:
DTSTAMP:20260422T123726Z
SUMMARY:LIVING ESTATE OF DR STEPHEN WILENSKY ~ MID-CENTURY FURNISHINGS ~ MUSICAL INSTRUMENT COLLECTION ~ ART
DESCRIPTION:LIVING ESTATE OF DR STEPHEN WILENSKY ~ MID-CENTURY FURNISHINGS ~ MUSICAL INSTRUMENT COLLECTION ~ ART Triola's Estate Sale Service 
UID:1776883046
STREET-ADDRESS:See website
POSTAL-CODE:48864
LOCALITY:Okemos
REGION:ABBREV=MI
COUNTRY:ABBREV=US;ABBREV=USA:United States
URL;TYPE=Event Listing:https://estatesales.org/estate-sales/mi/okemos/48864/living-estate-of-dr-stephen-1513105
PRIORITY:1
CLASS:PUBLIC
SEQUENCE:0
STATUS:CONFIRMED
TRANSP:OPAQUE
END:VEVENT
END:VCALENDAR
