BEGIN:VCALENDAR
VERSION:2.0
METHOD:PUBLISH
BEGIN:VEVENT
DTSTART:20180511T130000Z
DTEND:20180512T190000Z
LOCATION:Sarasota, FL 34243
TRANSP: OPAQUE
SEQUENCE:0
UID:
DTSTAMP:20260425T162417Z
SUMMARY:WELCOME TO THE 2 DAY SARASOTA SALE
DESCRIPTION:WELCOME TO THE 2 DAY SARASOTA SALE A PRESTIGE ESTATE SERVICES National Company 
UID:1777155857
STREET-ADDRESS:See website
POSTAL-CODE:34243
LOCALITY:Sarasota
REGION:ABBREV=FL
COUNTRY:ABBREV=US;ABBREV=USA:United States
URL;TYPE=Event Listing:https://estatesales.org/estate-sales/fl/sarasota/34243/welcome-to-the-2-day-1500491
PRIORITY:1
CLASS:PUBLIC
SEQUENCE:0
STATUS:CONFIRMED
TRANSP:OPAQUE
END:VEVENT
END:VCALENDAR
