BEGIN:VCALENDAR
VERSION:2.0
METHOD:PUBLISH
BEGIN:VEVENT
DTSTART:20180511T130000Z
DTEND:20180512T180000Z
LOCATION:Salisbury, NC 28146
TRANSP: OPAQUE
SEQUENCE:0
UID:
DTSTAMP:20260420T204704Z
SUMMARY:Huge Estate / Tag sale : Furniture, old Toys, 1970's Honda 100 dirt bike, tools, Household much more!!!
DESCRIPTION:Huge Estate / Tag sale : Furniture, old Toys, 1970's Honda 100 dirt bike, tools, Household much more!!! PARKER AUCTIONS 
UID:1776739624
STREET-ADDRESS:See website
POSTAL-CODE:28146
LOCALITY:Salisbury
REGION:ABBREV=NC
COUNTRY:ABBREV=US;ABBREV=USA:United States
URL;TYPE=Event Listing:https://estatesales.org/estate-sales/nc/salisbury/28146/huge-estate-tag-sale-furniture-1513825
PRIORITY:1
CLASS:PUBLIC
SEQUENCE:0
STATUS:CONFIRMED
TRANSP:OPAQUE
END:VEVENT
END:VCALENDAR
