BEGIN:VCALENDAR
VERSION:2.0
METHOD:PUBLISH
BEGIN:VEVENT
DTSTART:20250510T170000Z
DTEND:20250512T230000Z
LOCATION:By appointment only.
TRANSP: OPAQUE
SEQUENCE:0
UID:
DTSTAMP:20260422T100253Z
SUMMARY:By Appointment Only Penn Valley
DESCRIPTION:By Appointment Only Penn Valley Burns Estate Liquidator 
UID:1776873773
STREET-ADDRESS:See website
POSTAL-CODE:95946
LOCALITY:Penn Valley
REGION:ABBREV=CA
COUNTRY:ABBREV=US;ABBREV=USA:United States
URL;TYPE=Event Listing:https://estatesales.org/estate-sales/ca/penn-valley/95946/by-appointment-only-penn-valley-2372554
PRIORITY:1
CLASS:PUBLIC
SEQUENCE:0
STATUS:CONFIRMED
TRANSP:OPAQUE
END:VEVENT
END:VCALENDAR
