BEGIN:VCALENDAR
VERSION:2.0
METHOD:PUBLISH
BEGIN:VEVENT
DTSTART:20250510T160000Z
DTEND:20250511T000000Z
LOCATION:Glendale, CA 91207
TRANSP: OPAQUE
SEQUENCE:0
UID:
DTSTAMP:20260420T002752Z
SUMMARY:SHOP HOP POP-UP | GLENDALE
DESCRIPTION:SHOP HOP POP-UP | GLENDALE
UID:1776666472
STREET-ADDRESS:See website
POSTAL-CODE:91207
LOCALITY:Glendale
REGION:ABBREV=CA
COUNTRY:ABBREV=US;ABBREV=USA:United States
URL;TYPE=Event Listing:https://estatesales.org/estate-sales/ca/glendale/91207/shop-hop-popup-glendale-2377006
PRIORITY:1
CLASS:PUBLIC
SEQUENCE:0
STATUS:CONFIRMED
TRANSP:OPAQUE
END:VEVENT
END:VCALENDAR
