BEGIN:VCALENDAR
VERSION:2.0
METHOD:PUBLISH
BEGIN:VEVENT
DTSTART:20250510T150000Z
DTEND:20250511T190000Z
LOCATION:Bakersfield, CA 93301
TRANSP: OPAQUE
SEQUENCE:0
UID:
DTSTAMP:20260422T120331Z
SUMMARY:Estate Sale- 50% off Sunday-Westchester/Downtown Bakersfield
DESCRIPTION:Estate Sale- 50% off Sunday-Westchester/Downtown Bakersfield Complete Estate Management 
UID:1776881011
STREET-ADDRESS:See website
POSTAL-CODE:93301
LOCALITY:Bakersfield
REGION:ABBREV=CA
COUNTRY:ABBREV=US;ABBREV=USA:United States
URL;TYPE=Event Listing:https://estatesales.org/estate-sales/ca/bakersfield/93301/estate-sale-50-off-sundaywestchesterdowntown-2377253
PRIORITY:1
CLASS:PUBLIC
SEQUENCE:0
STATUS:CONFIRMED
TRANSP:OPAQUE
END:VEVENT
END:VCALENDAR
