BEGIN:VCALENDAR
VERSION:2.0
METHOD:PUBLISH
BEGIN:VEVENT
DTSTART:20240510T130000Z
DTEND:20240510T190000Z
LOCATION:Brick, NJ 08723
TRANSP: OPAQUE
SEQUENCE:0
UID:
DTSTAMP:20260422T151352Z
SUMMARY:Bricktown ONE DAY SALE~ New Furniture, Decor, Packed Garage, Tool Boxes and MORE
DESCRIPTION:Bricktown ONE DAY SALE~ New Furniture, Decor, Packed Garage, Tool Boxes and MORE Estate To Go 
UID:1776892432
STREET-ADDRESS:See website
POSTAL-CODE:08723
LOCALITY:Brick
REGION:ABBREV=NJ
COUNTRY:ABBREV=US;ABBREV=USA:United States
URL;TYPE=Event Listing:https://estatesales.org/estate-sales/nj/brick-township/08723/bricktown-one-day-sale-new-2305145
PRIORITY:1
CLASS:PUBLIC
SEQUENCE:0
STATUS:CONFIRMED
TRANSP:OPAQUE
END:VEVENT
END:VCALENDAR
