BEGIN:VCALENDAR
VERSION:2.0
METHOD:PUBLISH
BEGIN:VEVENT
DTSTART:20240510T120000Z
DTEND:20240511T160000Z
LOCATION:Clearwater, FL 33761
TRANSP: OPAQUE
SEQUENCE:0
UID:
DTSTAMP:20260423T094746Z
SUMMARY:Baby Boomers Countryside Estate Sale
DESCRIPTION:Baby Boomers Countryside Estate Sale Baby Boomers Estate Sales 
UID:1776959266
STREET-ADDRESS:See website
POSTAL-CODE:33761
LOCALITY:Clearwater
REGION:ABBREV=FL
COUNTRY:ABBREV=US;ABBREV=USA:United States
URL;TYPE=Event Listing:https://estatesales.org/estate-sales/fl/clearwater/33761/baby-boomers-countryside-estate-sale-2313687
PRIORITY:1
CLASS:PUBLIC
SEQUENCE:0
STATUS:CONFIRMED
TRANSP:OPAQUE
END:VEVENT
END:VCALENDAR
