BEGIN:VCALENDAR
VERSION:2.0
METHOD:PUBLISH
BEGIN:VEVENT
DTSTART:20240510T150000Z
DTEND:20240511T210000Z
LOCATION:Palm Springs, CA 92264
TRANSP: OPAQUE
SEQUENCE:0
UID:
DTSTAMP:20260421T091912Z
SUMMARY:Estate Sale Collectors
DESCRIPTION:Estate Sale Collectors Palm Springs Estate Sales 
UID:1776784752
STREET-ADDRESS:See website
POSTAL-CODE:92264
LOCALITY:Palm Springs
REGION:ABBREV=CA
COUNTRY:ABBREV=US;ABBREV=USA:United States
URL;TYPE=Event Listing:https://estatesales.org/estate-sales/ca/palm-springs/92264/estate-sale-collectors-2314172
PRIORITY:1
CLASS:PUBLIC
SEQUENCE:0
STATUS:CONFIRMED
TRANSP:OPAQUE
END:VEVENT
END:VCALENDAR
