BEGIN:VCALENDAR
VERSION:2.0
METHOD:PUBLISH
BEGIN:VEVENT
DTSTART:20200510T150000Z
DTEND:20200511T220000Z
LOCATION:By appointment only.
TRANSP: OPAQUE
SEQUENCE:0
UID:
DTSTAMP:20260420T021115Z
SUMMARY:Appointments : Wonderfully Unique Estate Sale- A bit of Everything
DESCRIPTION:Appointments : Wonderfully Unique Estate Sale- A bit of Everything Triumphant Estate Sales of Los Angeles 
UID:1776672675
STREET-ADDRESS:See website
POSTAL-CODE:91011
LOCALITY:La Canada Flintridge
REGION:ABBREV=CA
COUNTRY:ABBREV=US;ABBREV=USA:United States
URL;TYPE=Event Listing:https://estatesales.org/estate-sales/ca/la-caada-flintridge/91011/appointments-wonderfully-unique-estate-sale-1783021
PRIORITY:1
CLASS:PUBLIC
SEQUENCE:0
STATUS:CONFIRMED
TRANSP:OPAQUE
END:VEVENT
END:VCALENDAR
