BEGIN:VCALENDAR
VERSION:2.0
METHOD:PUBLISH
BEGIN:VEVENT
DTSTART:20190510T133000Z
DTEND:20190511T180000Z
LOCATION:Montclair, NJ 07042
TRANSP: OPAQUE
SEQUENCE:0
UID:
DTSTAMP:20260425T162308Z
SUMMARY:EASY PICKING IS IN MONTCLAIR, NJ FOR 2 DAY SALE. GREAT FURNITURE N KNICK KNACKS
DESCRIPTION:EASY PICKING IS IN MONTCLAIR, NJ FOR 2 DAY SALE. GREAT FURNITURE N KNICK KNACKS Easy Picking Estate Sales 
UID:1777155788
STREET-ADDRESS:See website
POSTAL-CODE:07042
LOCALITY:Montclair
REGION:ABBREV=NJ
COUNTRY:ABBREV=US;ABBREV=USA:United States
URL;TYPE=Event Listing:https://estatesales.org/estate-sales/nj/montclair/07042/easy-picking-is-in-montclair-1653021
PRIORITY:1
CLASS:PUBLIC
SEQUENCE:0
STATUS:CONFIRMED
TRANSP:OPAQUE
END:VEVENT
END:VCALENDAR
