BEGIN:VCALENDAR
VERSION:2.0
METHOD:PUBLISH
BEGIN:VEVENT
DTSTART:20260509T140000Z
DTEND:20260509T180000Z
LOCATION:Medford, NJ 08055 (Full address will be shown on Sat, May 9 5:00am)
TRANSP: OPAQUE
SEQUENCE:0
UID:
DTSTAMP:20260420T231246Z
SUMMARY:Come Out And See Us In Medford
DESCRIPTION:Come Out And See Us In Medford Anew Beginning Estate Liquidations 
UID:1776748366
STREET-ADDRESS:See website
POSTAL-CODE:08055
LOCALITY:Medford
REGION:ABBREV=NJ
COUNTRY:ABBREV=US;ABBREV=USA:United States
URL;TYPE=Event Listing:https://estatesales.org/estate-sales/nj/medford/08055/come-out-and-see-us-2436281
PRIORITY:1
CLASS:PUBLIC
SEQUENCE:0
STATUS:CONFIRMED
TRANSP:OPAQUE
END:VEVENT
END:VCALENDAR
