BEGIN:VCALENDAR
VERSION:2.0
METHOD:PUBLISH
BEGIN:VEVENT
DTSTART:20260509T160000Z
DTEND:20260510T065900Z
LOCATION:Surprise, AZ 85387 (Full address will be shown on Sat, May 9 5:00am)
TRANSP: OPAQUE
SEQUENCE:0
UID:
DTSTAMP:20260421T194900Z
SUMMARY:Great auction with a Van, Camper, Truck and lots of musical interments
DESCRIPTION:Great auction with a Van, Camper, Truck and lots of musical interments Blue Leaf Estate Auctions 
UID:1776822540
STREET-ADDRESS:See website
POSTAL-CODE:85387
LOCALITY:Surprise
REGION:ABBREV=AZ
COUNTRY:ABBREV=US;ABBREV=USA:United States
URL;TYPE=Event Listing:https://estatesales.org/estate-sales/az/surprise/85387/great-auction-with-a-van-2436456
PRIORITY:1
CLASS:PUBLIC
SEQUENCE:0
STATUS:CONFIRMED
TRANSP:OPAQUE
END:VEVENT
END:VCALENDAR
