BEGIN:VCALENDAR
VERSION:2.0
METHOD:PUBLISH
BEGIN:VEVENT
DTSTART:20260509T130000Z
DTEND:20260509T190000Z
LOCATION:Williamstown, NJ 08094 (Full address will be shown on Sat, May 9 7:00am)
TRANSP: OPAQUE
SEQUENCE:0
UID:
DTSTAMP:20260419T183013Z
SUMMARY:Treasure Me Team in Williamstown for a One Day Estate Sale
DESCRIPTION:Treasure Me Team in Williamstown for a One Day Estate Sale Treasure Me Estate Sales 1-800-NOT-JUNK Free Consults 
UID:1776645013
STREET-ADDRESS:See website
POSTAL-CODE:08094
LOCALITY:Williamstown
REGION:ABBREV=NJ
COUNTRY:ABBREV=US;ABBREV=USA:United States
URL;TYPE=Event Listing:https://estatesales.org/estate-sales/nj/williamstown-/08094/treasure-me-team-in-williamstown-2436054
PRIORITY:1
CLASS:PUBLIC
SEQUENCE:0
STATUS:CONFIRMED
TRANSP:OPAQUE
END:VEVENT
END:VCALENDAR
