BEGIN:VCALENDAR
VERSION:2.0
METHOD:PUBLISH
BEGIN:VEVENT
DTSTART:20260509T130000Z
DTEND:20260509T180000Z
LOCATION:Brookline, MA 02445 (Full address will be shown on Fri, May 8 8:00pm)
TRANSP: OPAQUE
SEQUENCE:0
UID:
DTSTAMP:20260423T092051Z
SUMMARY:BLOCKBUSTER BROOKLINE ESTATE SALE MAY 9TH ANTIQUES EARLY CHINESE & INDIAN PIECES ART TRIBAL PIECES FINE INDIAN CLOTHING MID CENTURY DANISH FURNITURE COLLECTIBLES BOOKS & MORE! A MUST NOT MISS EVENT!
DESCRIPTION:BLOCKBUSTER BROOKLINE ESTATE SALE MAY 9TH ANTIQUES EARLY CHINESE & INDIAN PIECES ART TRIBAL PIECES FINE INDIAN CLOTHING MID CENTURY DANISH FURNITURE COLLECTIBLES BOOKS & MORE! A MUST NOT MISS EVENT! BEST RATE CLEANOUTS & ESTATE SALES 
UID:1776957651
STREET-ADDRESS:See website
POSTAL-CODE:02445
LOCALITY:Brookline
REGION:ABBREV=MA
COUNTRY:ABBREV=US;ABBREV=USA:United States
URL;TYPE=Event Listing:https://estatesales.org/estate-sales/ma/brookline/02445/blockbuster-brookline-estate-sale-may-2436274
PRIORITY:1
CLASS:PUBLIC
SEQUENCE:0
STATUS:CONFIRMED
TRANSP:OPAQUE
END:VEVENT
END:VCALENDAR
