BEGIN:VCALENDAR
VERSION:2.0
METHOD:PUBLISH
BEGIN:VEVENT
DTSTART:20250509T160000Z
DTEND:20250511T200000Z
LOCATION:Visalia, CA 93277
TRANSP: OPAQUE
SEQUENCE:0
UID:
DTSTAMP:20260422T045946Z
SUMMARY:His & Hers Tools Treasures and MORE!
DESCRIPTION:His & Hers Tools Treasures and MORE! Golden Estate Sales 
UID:1776855586
STREET-ADDRESS:See website
POSTAL-CODE:93277
LOCALITY:Visalia
REGION:ABBREV=CA
COUNTRY:ABBREV=US;ABBREV=USA:United States
URL;TYPE=Event Listing:https://estatesales.org/estate-sales/ca/visalia/93277/his-hers-tools-treasures-and-2376657
PRIORITY:1
CLASS:PUBLIC
SEQUENCE:0
STATUS:CONFIRMED
TRANSP:OPAQUE
END:VEVENT
END:VCALENDAR
