BEGIN:VCALENDAR
VERSION:2.0
METHOD:PUBLISH
BEGIN:VEVENT
DTSTART:20250509T150000Z
DTEND:20250510T200000Z
LOCATION:Edmonds, WA 98026
TRANSP: OPAQUE
SEQUENCE:0
UID:
DTSTAMP:20260424T012415Z
SUMMARY:50% Off Saturday! Ginny's Girls Edmonds Lifetime Vintage Collector
DESCRIPTION:50% Off Saturday! Ginny's Girls Edmonds Lifetime Vintage Collector Ginny's Girls Estate Services 
UID:1777015455
STREET-ADDRESS:See website
POSTAL-CODE:98026
LOCALITY:Edmonds
REGION:ABBREV=WA
COUNTRY:ABBREV=US;ABBREV=USA:United States
URL;TYPE=Event Listing:https://estatesales.org/estate-sales/wa/edmonds/98026/ginnys-girls-edmonds-lifetime-vintage-2373712
PRIORITY:1
CLASS:PUBLIC
SEQUENCE:0
STATUS:CONFIRMED
TRANSP:OPAQUE
END:VEVENT
END:VCALENDAR
