BEGIN:VCALENDAR
VERSION:2.0
METHOD:PUBLISH
BEGIN:VEVENT
DTSTART:20250509T100000Z
DTEND:20250511T200000Z
LOCATION:New Haven, CT 06511
TRANSP: OPAQUE
SEQUENCE:0
UID:
DTSTAMP:20260421T234422Z
SUMMARY:SUPER MEGA EPIC ESTATE SALE. THE BIGGEST SALE YOU WILL EVER SEE! THIS WEEKEND.! NEW HAVEN, CT
DESCRIPTION:SUPER MEGA EPIC ESTATE SALE. THE BIGGEST SALE YOU WILL EVER SEE! THIS WEEKEND.! NEW HAVEN, CT CT Estates by April 
UID:1776836662
STREET-ADDRESS:See website
POSTAL-CODE:06511
LOCALITY:New Haven
REGION:ABBREV=CT
COUNTRY:ABBREV=US;ABBREV=USA:United States
URL;TYPE=Event Listing:https://estatesales.org/estate-sales/ct/new-haven/06511/super-mega-epic-estate-sale-2368346
PRIORITY:1
CLASS:PUBLIC
SEQUENCE:0
STATUS:CONFIRMED
TRANSP:OPAQUE
END:VEVENT
END:VCALENDAR
