BEGIN:VCALENDAR
VERSION:2.0
METHOD:PUBLISH
BEGIN:VEVENT
DTSTART:20240509T140000Z
DTEND:20240511T180000Z
LOCATION:Winter Park, FL 32789
TRANSP: OPAQUE
SEQUENCE:0
UID:
DTSTAMP:20260419T122033Z
SUMMARY:Estate Sale in Winter Park-50% at Noon Saturday-Sea Ray Boat and Harley Davidson-Estate Sales In Orlando
DESCRIPTION:Estate Sale in Winter Park-50% at Noon Saturday-Sea Ray Boat and Harley Davidson-Estate Sales In Orlando Estate Sale Stars 
UID:1776622833
STREET-ADDRESS:See website
POSTAL-CODE:32789
LOCALITY:Winter Park
REGION:ABBREV=FL
COUNTRY:ABBREV=US;ABBREV=USA:United States
URL;TYPE=Event Listing:https://estatesales.org/estate-sales/fl/winter-park/32789/estate-sale-in-winter-park30-2307905
PRIORITY:1
CLASS:PUBLIC
SEQUENCE:0
STATUS:CONFIRMED
TRANSP:OPAQUE
END:VEVENT
END:VCALENDAR
