BEGIN:VCALENDAR
VERSION:2.0
METHOD:PUBLISH
BEGIN:VEVENT
DTSTART:20190509T160000Z
DTEND:20190511T200000Z
LOCATION:Solana Beach, CA 92075
TRANSP: OPAQUE
SEQUENCE:0
UID:
DTSTAMP:20260420T093720Z
SUMMARY:DOWNSIZING IN SOLANA BEACH, MID CENTURY, ANTIQUES AND GREAT HOUSEWARES!
DESCRIPTION:DOWNSIZING IN SOLANA BEACH, MID CENTURY, ANTIQUES AND GREAT HOUSEWARES! Retro House Love Estate Sales 
UID:1776699440
STREET-ADDRESS:See website
POSTAL-CODE:92075
LOCALITY:Solana Beach
REGION:ABBREV=CA
COUNTRY:ABBREV=US;ABBREV=USA:United States
URL;TYPE=Event Listing:https://estatesales.org/estate-sales/ca/solana-beach/92075/downsizing-in-solana-beach-mid-1655373
PRIORITY:1
CLASS:PUBLIC
SEQUENCE:0
STATUS:CONFIRMED
TRANSP:OPAQUE
END:VEVENT
END:VCALENDAR
