BEGIN:VCALENDAR
VERSION:2.0
METHOD:PUBLISH
BEGIN:VEVENT
DTSTART:20190509T190000Z
DTEND:20190512T200000Z
LOCATION:Mobile, AL 36604
TRANSP: OPAQUE
SEQUENCE:0
UID:
DTSTAMP:20260422T065031Z
SUMMARY:Old Mobile Oakleigh Estate and Uncommon Artifacts Gallery Sale
DESCRIPTION:Old Mobile Oakleigh Estate and Uncommon Artifacts Gallery Sale Uncommon Artifacts Estate Services LLC 
UID:1776862231
STREET-ADDRESS:See website
POSTAL-CODE:36604
LOCALITY:Mobile
REGION:ABBREV=AL
COUNTRY:ABBREV=US;ABBREV=USA:United States
URL;TYPE=Event Listing:https://estatesales.org/estate-sales/al/mobile/36604/old-mobile-oakleigh-estate-and-1656913
PRIORITY:1
CLASS:PUBLIC
SEQUENCE:0
STATUS:CONFIRMED
TRANSP:OPAQUE
END:VEVENT
END:VCALENDAR
