BEGIN:VCALENDAR
VERSION:2.0
METHOD:PUBLISH
BEGIN:VEVENT
DTSTART:20260508T160000Z
DTEND:20260509T180000Z
LOCATION:Hampton, NH 03842 (Full address will be shown on Thu, May 7 12:00pm)
TRANSP: OPAQUE
SEQUENCE:0
UID:
DTSTAMP:20260423T175418Z
SUMMARY:Vintage Clothing, Jewelry & MCM in Hampton!
DESCRIPTION:Vintage Clothing, Jewelry & MCM in Hampton! Blue Moon Estate Sales of Greater Manchester & Portsmouth 
UID:1776988458
STREET-ADDRESS:See website
POSTAL-CODE:03842
LOCALITY:Hampton
REGION:ABBREV=NH
COUNTRY:ABBREV=US;ABBREV=USA:United States
URL;TYPE=Event Listing:https://estatesales.org/estate-sales/nh/hampton/03842/vintage-clothing-jewelry-mcm-in-2436946
PRIORITY:1
CLASS:PUBLIC
SEQUENCE:0
STATUS:CONFIRMED
TRANSP:OPAQUE
END:VEVENT
END:VCALENDAR
