BEGIN:VCALENDAR
VERSION:2.0
METHOD:PUBLISH
BEGIN:VEVENT
DTSTART:20260508T140000Z
DTEND:20260510T190000Z
LOCATION:Strawberry Plains, TN 37871 (Full address will be shown on Thu, May 7 12:00am)
TRANSP: OPAQUE
SEQUENCE:0
UID:
DTSTAMP:20260423T045837Z
SUMMARY:Springtime in Straw Plains 24ft Camper John Deere Zero Turn Tools
DESCRIPTION:Springtime in Straw Plains 24ft Camper John Deere Zero Turn Tools Everything Cool Estate Sales 
UID:1776941917
STREET-ADDRESS:See website
POSTAL-CODE:37871
LOCALITY:Strawberry Plains
REGION:ABBREV=TN
COUNTRY:ABBREV=US;ABBREV=USA:United States
URL;TYPE=Event Listing:https://estatesales.org/estate-sales/tn/strawberry-plains/37871/springtime-in-straw-plains-24ft-2436807
PRIORITY:1
CLASS:PUBLIC
SEQUENCE:0
STATUS:CONFIRMED
TRANSP:OPAQUE
END:VEVENT
END:VCALENDAR
