BEGIN:VCALENDAR
VERSION:2.0
METHOD:PUBLISH
BEGIN:VEVENT
DTSTART:20260508T150000Z
DTEND:20260509T220000Z
LOCATION:Littleton, CO 80120 (Full address will be shown on Thu, May 7 12:00am)
TRANSP: OPAQUE
SEQUENCE:0
UID:
DTSTAMP:20260425T193944Z
SUMMARY:AN ARTFUL LIFE
DESCRIPTION:AN ARTFUL LIFE H&K EstateSales 
UID:1777167584
STREET-ADDRESS:See website
POSTAL-CODE:80120
LOCALITY:Littleton
REGION:ABBREV=CO
COUNTRY:ABBREV=US;ABBREV=USA:United States
URL;TYPE=Event Listing:https://estatesales.org/estate-sales/co/littleton/80120/an-artful-life-2437276
PRIORITY:1
CLASS:PUBLIC
SEQUENCE:0
STATUS:CONFIRMED
TRANSP:OPAQUE
END:VEVENT
END:VCALENDAR
