BEGIN:VCALENDAR
VERSION:2.0
METHOD:PUBLISH
BEGIN:VEVENT
DTSTART:20260508T140000Z
DTEND:20260509T200000Z
LOCATION:Joliet, IL 60435 (Full address will be shown on Tue, May 5 12:00am)
TRANSP: OPAQUE
SEQUENCE:0
UID:
DTSTAMP:20260423T122935Z
SUMMARY:CAIT'S® Joliet Estate Sale
DESCRIPTION:CAIT'S® Joliet Estate Sale CAIT’S® Estate Sales & Emporium 
UID:1776968975
STREET-ADDRESS:See website
POSTAL-CODE:60435
LOCALITY:Joliet
REGION:ABBREV=IL
COUNTRY:ABBREV=US;ABBREV=USA:United States
URL;TYPE=Event Listing:https://estatesales.org/estate-sales/il/joliet/60435/caits-joliet-estate-sale-2436873
PRIORITY:1
CLASS:PUBLIC
SEQUENCE:0
STATUS:CONFIRMED
TRANSP:OPAQUE
END:VEVENT
END:VCALENDAR
