BEGIN:VCALENDAR
VERSION:2.0
METHOD:PUBLISH
BEGIN:VEVENT
DTSTART:20260508T130000Z
DTEND:20260508T180000Z
LOCATION:Sutton, MA 01590 (Full address will be shown on Thu, May 7 8:00pm)
TRANSP: OPAQUE
SEQUENCE:0
UID:
DTSTAMP:20260423T092051Z
SUMMARY:PHENOMENAL SUTTON ESTATE SALE MAY 8TH FINE HOME FURNITURE, ART, SCULPTURES, STATUES, COLLECTIBLES, ELECTRIC BIKES, JOHN DEERE TRACTOR, TOOLS & MORE! DON'T MISS THIS ONE!!!
DESCRIPTION:PHENOMENAL SUTTON ESTATE SALE MAY 8TH FINE HOME FURNITURE, ART, SCULPTURES, STATUES, COLLECTIBLES, ELECTRIC BIKES, JOHN DEERE TRACTOR, TOOLS & MORE! DON'T MISS THIS ONE!!! BEST RATE CLEANOUTS & ESTATE SALES 
UID:1776957651
STREET-ADDRESS:See website
POSTAL-CODE:01590
LOCALITY:Sutton
REGION:ABBREV=MA
COUNTRY:ABBREV=US;ABBREV=USA:United States
URL;TYPE=Event Listing:https://estatesales.org/estate-sales/ma/sutton/01590/phenomenal-sutton-estate-sale-may-2436272
PRIORITY:1
CLASS:PUBLIC
SEQUENCE:0
STATUS:CONFIRMED
TRANSP:OPAQUE
END:VEVENT
END:VCALENDAR
