BEGIN:VCALENDAR
VERSION:2.0
METHOD:PUBLISH
BEGIN:VEVENT
DTSTART:20260508T140000Z
DTEND:20260510T200000Z
LOCATION:Grandview, TX 76050 (Full address will be shown on Thu, May 7 6:00am)
TRANSP: OPAQUE
SEQUENCE:0
UID:
DTSTAMP:20260422T200359Z
SUMMARY:Tool and holiday lovers dream sale. Household goods, antiques to lawn tractor and tools.
DESCRIPTION:Tool and holiday lovers dream sale. Household goods, antiques to lawn tractor and tools.
UID:1776909839
STREET-ADDRESS:See website
POSTAL-CODE:76050
LOCALITY:Grandview
REGION:ABBREV=TX
COUNTRY:ABBREV=US;ABBREV=USA:United States
URL;TYPE=Event Listing:https://estatesales.org/estate-sales/tx/grandview/76050/tool-and-holiday-lovers-dream-2436695
PRIORITY:1
CLASS:PUBLIC
SEQUENCE:0
STATUS:CONFIRMED
TRANSP:OPAQUE
END:VEVENT
END:VCALENDAR
