BEGIN:VCALENDAR
VERSION:2.0
METHOD:PUBLISH
BEGIN:VEVENT
DTSTART:20240508T143000Z
DTEND:20240510T220000Z
LOCATION:Shawnee, OK 74804
TRANSP: OPAQUE
SEQUENCE:0
UID:
DTSTAMP:20260424T151640Z
SUMMARY:Estate Sale Final Day Friday- 50% OFF EVERYTHING
DESCRIPTION:Estate Sale Final Day Friday- 50% OFF EVERYTHING Rustic Sisters Estate Sales 
UID:1777065400
STREET-ADDRESS:See website
POSTAL-CODE:74804
LOCALITY:Shawnee
REGION:ABBREV=OK
COUNTRY:ABBREV=US;ABBREV=USA:United States
URL;TYPE=Event Listing:https://estatesales.org/estate-sales/ok/shawnee/74804/estate-sale-final-day-friday-2313700
PRIORITY:1
CLASS:PUBLIC
SEQUENCE:0
STATUS:CONFIRMED
TRANSP:OPAQUE
END:VEVENT
END:VCALENDAR
