BEGIN:VCALENDAR
VERSION:2.0
METHOD:PUBLISH
BEGIN:VEVENT
DTSTART:20170508T140000Z
DTEND:20170512T180000Z
LOCATION:Athens, GA 30606
TRANSP: OPAQUE
SEQUENCE:0
UID:
DTSTAMP:20260425T102708Z
SUMMARY:Estate Sales of Athens Last inventory just arrived
DESCRIPTION:Estate Sales of Athens Last inventory just arrived Transitioning America 
UID:1777134428
STREET-ADDRESS:See website
POSTAL-CODE:30606
LOCALITY:Athens
REGION:ABBREV=GA
COUNTRY:ABBREV=US;ABBREV=USA:United States
URL;TYPE=Event Listing:https://estatesales.org/estate-sales/ga/athens/30606/estate-sales-of-athens-last-1177165
PRIORITY:1
CLASS:PUBLIC
SEQUENCE:0
STATUS:CONFIRMED
TRANSP:OPAQUE
END:VEVENT
END:VCALENDAR
