BEGIN:VCALENDAR
VERSION:2.0
METHOD:PUBLISH
BEGIN:VEVENT
DTSTART:20150508T160000Z
DTEND:20150509T220000Z
LOCATION:Yorba Linda, CA 92886
TRANSP: OPAQUE
SEQUENCE:0
UID:
DTSTAMP:20260425T045038Z
SUMMARY:â—New pics addedâ—VINTAGE/CLASSIC CAR PARTS & CRAFTER'S DREAM ESTATE SALE IN PARKSIDE ESTATES YORBA LINDA
DESCRIPTION:â—New pics addedâ—VINTAGE/CLASSIC CAR PARTS & CRAFTER'S DREAM ESTATE SALE IN PARKSIDE ESTATES YORBA LINDA Juanita's JUNK in the TRUNK - Estate Sales & Liquidation Sales 
UID:1777114238
STREET-ADDRESS:See website
POSTAL-CODE:92886
LOCALITY:Yorba Linda
REGION:ABBREV=CA
COUNTRY:ABBREV=US;ABBREV=USA:United States
URL;TYPE=Event Listing:https://estatesales.org/estate-sales/ca/yorba-linda/92886/new-pics-addedvintageclassic-car-parts-538371
PRIORITY:1
CLASS:PUBLIC
SEQUENCE:0
STATUS:CONFIRMED
TRANSP:OPAQUE
END:VEVENT
END:VCALENDAR
