BEGIN:VCALENDAR
VERSION:2.0
METHOD:PUBLISH
BEGIN:VEVENT
DTSTART:20260507T160000Z
DTEND:20260509T210000Z
LOCATION:Arlington, WA 98223 (Full address will be shown on Thu, May 7 8:00am)
TRANSP: OPAQUE
SEQUENCE:0
UID:
DTSTAMP:20260421T144717Z
SUMMARY:Grasons of Mount Vernon - Country Cluckin' Good Sale - 3 days - Arlington
DESCRIPTION:Grasons of Mount Vernon - Country Cluckin' Good Sale - 3 days - Arlington Grasons of Mount Vernon, WA 
UID:1776804437
STREET-ADDRESS:See website
POSTAL-CODE:98223
LOCALITY:Arlington
REGION:ABBREV=WA
COUNTRY:ABBREV=US;ABBREV=USA:United States
URL;TYPE=Event Listing:https://estatesales.org/estate-sales/wa/arlington/98223/grasons-of-mount-vernon-country-2436372
PRIORITY:1
CLASS:PUBLIC
SEQUENCE:0
STATUS:CONFIRMED
TRANSP:OPAQUE
END:VEVENT
END:VCALENDAR
