BEGIN:VCALENDAR
VERSION:2.0
METHOD:PUBLISH
BEGIN:VEVENT
DTSTART:20260507T160000Z
DTEND:20260509T210000Z
LOCATION:Cerritos, CA 90703 (Full address will be shown on Thu, May 7 12:00am)
TRANSP: OPAQUE
SEQUENCE:0
UID:
DTSTAMP:20260423T160312Z
SUMMARY:Grasons Integrity Cerritos Estate Sale
DESCRIPTION:Grasons Integrity Cerritos Estate Sale Grasons Co Integrity Estate Sale Services 
UID:1776981792
STREET-ADDRESS:See website
POSTAL-CODE:90703
LOCALITY:Cerritos
REGION:ABBREV=CA
COUNTRY:ABBREV=US;ABBREV=USA:United States
URL;TYPE=Event Listing:https://estatesales.org/estate-sales/ca/cerritos-/90703/grasons-integrity-cerritos-estate-sale-2436903
PRIORITY:1
CLASS:PUBLIC
SEQUENCE:0
STATUS:CONFIRMED
TRANSP:OPAQUE
END:VEVENT
END:VCALENDAR
