BEGIN:VCALENDAR
VERSION:2.0
METHOD:PUBLISH
BEGIN:VEVENT
DTSTART:20250507T133000Z
DTEND:20250507T220000Z
LOCATION:Madison, VA 22727
TRANSP: OPAQUE
SEQUENCE:0
UID:
DTSTAMP:20260422T003531Z
SUMMARY:Wonderful Mid-Week Live Estate Auction! (May 7)
DESCRIPTION:Wonderful Mid-Week Live Estate Auction! (May 7) Four Sales Ltd 
UID:1776839731
STREET-ADDRESS:See website
POSTAL-CODE:22727
LOCALITY:Madison
REGION:ABBREV=VA
COUNTRY:ABBREV=US;ABBREV=USA:United States
URL;TYPE=Event Listing:https://estatesales.org/estate-sales/va/madison/22727/wonderful-midweek-live-estate-auction-2369935
PRIORITY:1
CLASS:PUBLIC
SEQUENCE:0
STATUS:CONFIRMED
TRANSP:OPAQUE
END:VEVENT
END:VCALENDAR
