BEGIN:VCALENDAR
VERSION:2.0
METHOD:PUBLISH
BEGIN:VEVENT
DTSTART:20200507T130000Z
DTEND:20200509T190000Z
LOCATION:Ocala, FL 34480
TRANSP: OPAQUE
SEQUENCE:0
UID:
DTSTAMP:20260420T060958Z
SUMMARY:Remote sale, items have been moved from Oak Run to the remote facility 
DESCRIPTION:Remote sale, items have been moved from Oak Run to the remote facility  Justice League Estate Sales 
UID:1776686998
STREET-ADDRESS:See website
POSTAL-CODE:34480
LOCALITY:Ocala
REGION:ABBREV=FL
COUNTRY:ABBREV=US;ABBREV=USA:United States
URL;TYPE=Event Listing:https://estatesales.org/estate-sales/fl/ocala/34480/remote-sale-items-have-been-1766287
PRIORITY:1
CLASS:PUBLIC
SEQUENCE:0
STATUS:CONFIRMED
TRANSP:OPAQUE
END:VEVENT
END:VCALENDAR
