BEGIN:VCALENDAR
VERSION:2.0
METHOD:PUBLISH
BEGIN:VEVENT
DTSTART:20150507T150000Z
DTEND:20150509T210000Z
LOCATION:Geneva, IL 60134
TRANSP: OPAQUE
SEQUENCE:0
UID:
DTSTAMP:20260420T161906Z
SUMMARY:***SUBTLE TREASURES***WANTS TO SHARE THE TREASURES FOUND IN GENEVA WITH YOU!
DESCRIPTION:***SUBTLE TREASURES***WANTS TO SHARE THE TREASURES FOUND IN GENEVA WITH YOU! Subtle Treasures 
UID:1776723546
STREET-ADDRESS:See website
POSTAL-CODE:60134
LOCALITY:Geneva
REGION:ABBREV=IL
COUNTRY:ABBREV=US;ABBREV=USA:United States
URL;TYPE=Event Listing:https://estatesales.org/estate-sales/il/geneva/60134/subtle-treasureswants-to-share-the-539941
PRIORITY:1
CLASS:PUBLIC
SEQUENCE:0
STATUS:CONFIRMED
TRANSP:OPAQUE
END:VEVENT
END:VCALENDAR
