BEGIN:VCALENDAR
VERSION:2.0
METHOD:PUBLISH
BEGIN:VEVENT
DTSTART:20260506T150000Z
DTEND:20260507T210000Z
LOCATION:Phoenix, AZ 85086 (Full address will be shown on Wed, May 6 5:00am)
TRANSP: OPAQUE
SEQUENCE:0
UID:
DTSTAMP:20260422T234320Z
SUMMARY:***A NEW ADVENTURE IN ANTHEM***
DESCRIPTION:***A NEW ADVENTURE IN ANTHEM*** Anderson Family Estate Sales & Services, LLC 
UID:1776923000
STREET-ADDRESS:See website
POSTAL-CODE:85086
LOCALITY:Phoenix
REGION:ABBREV=AZ
COUNTRY:ABBREV=US;ABBREV=USA:United States
URL;TYPE=Event Listing:https://estatesales.org/estate-sales/az/anthem/85086/a-new-adventure-in-anthem-2436736
PRIORITY:1
CLASS:PUBLIC
SEQUENCE:0
STATUS:CONFIRMED
TRANSP:OPAQUE
END:VEVENT
END:VCALENDAR
