BEGIN:VCALENDAR
VERSION:2.0
METHOD:PUBLISH
BEGIN:VEVENT
DTSTART:20230506T140000Z
DTEND:20230506T210000Z
LOCATION:Fort Lauderdale, FL 33317
TRANSP: OPAQUE
SEQUENCE:0
UID:
DTSTAMP:20260421T140252Z
SUMMARY:SHORT NOTICE: LIVE STORAGE WARS
DESCRIPTION:SHORT NOTICE: LIVE STORAGE WARS Auction Company of America 
UID:1776801772
STREET-ADDRESS:See website
POSTAL-CODE:33317
LOCALITY:Fort Lauderdale
REGION:ABBREV=FL
COUNTRY:ABBREV=US;ABBREV=USA:United States
URL;TYPE=Event Listing:https://estatesales.org/estate-sales/fl/davie/33317/short-notice-live-storage-wars-2178075
PRIORITY:1
CLASS:PUBLIC
SEQUENCE:0
STATUS:CONFIRMED
TRANSP:OPAQUE
END:VEVENT
END:VCALENDAR
