BEGIN:VCALENDAR
VERSION:2.0
METHOD:PUBLISH
BEGIN:VEVENT
DTSTART:20230506T160000Z
DTEND:20230507T210000Z
LOCATION:Santa Monica, CA 90403
TRANSP: OPAQUE
SEQUENCE:0
UID:
DTSTAMP:20260420T044041Z
SUMMARY: Discount Sunday Santa, Monica, Estate Sale
DESCRIPTION: Discount Sunday Santa, Monica, Estate Sale Hidden Treasure Estate Sales 
UID:1776681641
STREET-ADDRESS:See website
POSTAL-CODE:90403
LOCALITY:Santa Monica
REGION:ABBREV=CA
COUNTRY:ABBREV=US;ABBREV=USA:United States
URL;TYPE=Event Listing:https://estatesales.org/estate-sales/ca/santa-monica/90403/discount-sunday-santa-monica-estate-2176555
PRIORITY:1
CLASS:PUBLIC
SEQUENCE:0
STATUS:CONFIRMED
TRANSP:OPAQUE
END:VEVENT
END:VCALENDAR
