BEGIN:VCALENDAR
VERSION:2.0
METHOD:PUBLISH
BEGIN:VEVENT
DTSTART:20230506T160000Z
DTEND:20230506T210000Z
LOCATION:Mesa, AZ 85206
TRANSP: OPAQUE
SEQUENCE:0
UID:
DTSTAMP:20260421T230012Z
SUMMARY:Great Home located in Mesa
DESCRIPTION:Great Home located in Mesa Boyds AZ 
UID:1776834012
STREET-ADDRESS:See website
POSTAL-CODE:85206
LOCALITY:Mesa
REGION:ABBREV=AZ
COUNTRY:ABBREV=US;ABBREV=USA:United States
URL;TYPE=Event Listing:https://estatesales.org/estate-sales/az/mesa/85206/great-home-located-in-mesa-2173829
PRIORITY:1
CLASS:PUBLIC
SEQUENCE:0
STATUS:CONFIRMED
TRANSP:OPAQUE
END:VEVENT
END:VCALENDAR
