BEGIN:VCALENDAR
VERSION:2.0
METHOD:PUBLISH
BEGIN:VEVENT
DTSTART:20230506T160000Z
DTEND:20230506T200000Z
LOCATION:Walnut Creek, CA 94598
TRANSP: OPAQUE
SEQUENCE:0
UID:
DTSTAMP:20260423T062912Z
SUMMARY:80s-90s Boy Toys, Legos, Dept 56, Vintage Glassware & Stereo - SAT ONLY!
DESCRIPTION:80s-90s Boy Toys, Legos, Dept 56, Vintage Glassware & Stereo - SAT ONLY! J and C Estate Sales 
UID:1776947352
STREET-ADDRESS:See website
POSTAL-CODE:94598
LOCALITY:Walnut Creek
REGION:ABBREV=CA
COUNTRY:ABBREV=US;ABBREV=USA:United States
URL;TYPE=Event Listing:https://estatesales.org/estate-sales/ca/walnut-creek/94598/80s90s-boy-toys-legos-dept-2176739
PRIORITY:1
CLASS:PUBLIC
SEQUENCE:0
STATUS:CONFIRMED
TRANSP:OPAQUE
END:VEVENT
END:VCALENDAR
