BEGIN:VCALENDAR
VERSION:2.0
METHOD:PUBLISH
BEGIN:VEVENT
DTSTART:20230506T120000Z
DTEND:20230507T190000Z
LOCATION:Ledyard, CT 06335
TRANSP: OPAQUE
SEQUENCE:0
UID:
DTSTAMP:20260425T173010Z
SUMMARY:Gales Ferry Estate Sale
DESCRIPTION:Gales Ferry Estate Sale Shoreline Estate Sales CT 
UID:1777159810
STREET-ADDRESS:See website
POSTAL-CODE:06335
LOCALITY:Ledyard
REGION:ABBREV=CT
COUNTRY:ABBREV=US;ABBREV=USA:United States
URL;TYPE=Event Listing:https://estatesales.org/estate-sales/ct/ledyard/06335/gales-ferry-estate-sale-2163009
PRIORITY:1
CLASS:PUBLIC
SEQUENCE:0
STATUS:CONFIRMED
TRANSP:OPAQUE
END:VEVENT
END:VCALENDAR
