BEGIN:VCALENDAR
VERSION:2.0
METHOD:PUBLISH
BEGIN:VEVENT
DTSTART:20220506T160000Z
DTEND:20220508T200000Z
LOCATION:Charlottesville, VA 22901
TRANSP: OPAQUE
SEQUENCE:0
UID:
DTSTAMP:20260423T203437Z
SUMMARY:Estate Sale in Charlottesville
DESCRIPTION:Estate Sale in Charlottesville Estate Sales and Services LLC 
UID:1776998077
STREET-ADDRESS:See website
POSTAL-CODE:22901
LOCALITY:Charlottesville
REGION:ABBREV=VA
COUNTRY:ABBREV=US;ABBREV=USA:United States
URL;TYPE=Event Listing:https://estatesales.org/estate-sales/va/charlottesville/22901/estate-sale-in-charlottesville-2038547
PRIORITY:1
CLASS:PUBLIC
SEQUENCE:0
STATUS:CONFIRMED
TRANSP:OPAQUE
END:VEVENT
END:VCALENDAR
