BEGIN:VCALENDAR
VERSION:2.0
METHOD:PUBLISH
BEGIN:VEVENT
DTSTART:20160506T160000Z
DTEND:20160507T230000Z
LOCATION:San Marino, CA 91108
TRANSP: OPAQUE
SEQUENCE:0
UID:
DTSTAMP:20260424T202552Z
SUMMARY:San Marino - Old Mill Road
DESCRIPTION:San Marino - Old Mill Road Sharon Yost Estate Sales 
UID:1777083952
STREET-ADDRESS:See website
POSTAL-CODE:91108
LOCALITY:San Marino
REGION:ABBREV=CA
COUNTRY:ABBREV=US;ABBREV=USA:United States
URL;TYPE=Event Listing:https://estatesales.org/estate-sales/ca/san-marino/91108/san-marino-old-mill-road-843373
PRIORITY:1
CLASS:PUBLIC
SEQUENCE:0
STATUS:CONFIRMED
TRANSP:OPAQUE
END:VEVENT
END:VCALENDAR
